BEGIN:VCALENDAR
VERSION:2.0
PRODID:-//Eens marinier, altijd marinier - ECPv6.15.20//NONSGML v1.0//EN
CALSCALE:GREGORIAN
METHOD:PUBLISH
X-ORIGINAL-URL:https://eensmarinieraltijdmarinier.nl
X-WR-CALDESC:Evenementen voor Eens marinier, altijd marinier
REFRESH-INTERVAL;VALUE=DURATION:PT1H
X-Robots-Tag:noindex
X-PUBLISHED-TTL:PT1H
BEGIN:VTIMEZONE
TZID:Europe/Amsterdam
BEGIN:DAYLIGHT
TZOFFSETFROM:+0100
TZOFFSETTO:+0200
TZNAME:CEST
DTSTART:20240331T010000
END:DAYLIGHT
BEGIN:STANDARD
TZOFFSETFROM:+0200
TZOFFSETTO:+0100
TZNAME:CET
DTSTART:20241027T010000
END:STANDARD
BEGIN:DAYLIGHT
TZOFFSETFROM:+0100
TZOFFSETTO:+0200
TZNAME:CEST
DTSTART:20250330T010000
END:DAYLIGHT
BEGIN:STANDARD
TZOFFSETFROM:+0200
TZOFFSETTO:+0100
TZNAME:CET
DTSTART:20251026T010000
END:STANDARD
BEGIN:DAYLIGHT
TZOFFSETFROM:+0100
TZOFFSETTO:+0200
TZNAME:CEST
DTSTART:20260329T010000
END:DAYLIGHT
BEGIN:STANDARD
TZOFFSETFROM:+0200
TZOFFSETTO:+0100
TZNAME:CET
DTSTART:20261025T010000
END:STANDARD
END:VTIMEZONE
BEGIN:VEVENT
DTSTART;VALUE=DATE:20251004
DTEND;VALUE=DATE:20251005
DTSTAMP:20260421T085750
CREATED:20250730T110100Z
LAST-MODIFIED:20250909T194835Z
UID:7216-1759536000-1759622399@eensmarinieraltijdmarinier.nl
SUMMARY:Prive oorlogsmuseum van Jan Stuivenberg
DESCRIPTION:We vertrekken met de bus naar Loosdrecht waar we een bezoek  brengen aan het Militair depot\, het prive oorlogsmuseum van Jan Stuivenberg. Hier gaan we ook koffie/thee met koek nuttigen.\nDaarna gaan we naar de locatie van de Stichting 24e BevoCie ook\, gelegen in Loosdrecht waar we in shifts worden opgehaald met een DUKW\, een amfibievoertuig uit de 2e Wereld Oorlog\, hiermee gaan we\neen vaartocht maken over de Loosdrechtse plassen. Ook hier zullen we voor de inwendige mens zorgdragen. \nRond 17:00 uur gaan we gezamenlijk een nasi maalijd nuttigen waarna we omstreeks 18.00 uur weer met de bus vertrekken richting het Noorden. \nHet volledige programma en de tjden zullen later bekendgemaakt worden. \nDe opstapplaatsen zijn Hoogeveen\, Assen\, Hoogkerk\, Drachten en Joure. \nEigen bijdrage voor leden en partners bedraagt 21\,50 p/p\nEigen bijdrage donateurs en introducees bedraagt 31\,50 p/p\nAanmelden graag bij de penningmeester per mail naar\npenningmeester-noord@eensmarinieraltijdmarinier.nl \nDe eigen bijdrage graag overmaken op de bankrekening van Com Noord NL61RBRB 0954 6249 20
URL:https://eensmarinieraltijdmarinier.nl/event/activiteit-militair-museum-te-loosdrecht/
LOCATION:Zuid Holland
END:VEVENT
BEGIN:VEVENT
DTSTART;TZID=Europe/Amsterdam:20251008T130000
DTEND;TZID=Europe/Amsterdam:20251008T170000
DTSTAMP:20260421T085750
CREATED:20250815T121123Z
LAST-MODIFIED:20250917T115432Z
UID:7378-1759928400-1759942800@eensmarinieraltijdmarinier.nl
SUMMARY:Oploopmiddag Noord
DESCRIPTION:In de oneven weken organiseerd de afdeling Noord een oploopmiddag in Hoogkerk. \nLekker bijkletsen\, kaartje leggen kortom een gezellig samen zijn \nKom vrijblijvend binnen stappen
URL:https://eensmarinieraltijdmarinier.nl/event/oploopmiddag-noord-12/
LOCATION:Wijkrestaurant Gabriel\, Gabriëlstraat 4\,\, Hoogkerk\, Groningen\, 9744 KC\, Netherlands
ATTACH;FMTTYPE=image/png:https://eensmarinieraltijdmarinier.nl/wp-content/uploads/2025/03/Gabriellogo.png
END:VEVENT
BEGIN:VEVENT
DTSTART;TZID=Europe/Amsterdam:20251022T130000
DTEND;TZID=Europe/Amsterdam:20251022T170000
DTSTAMP:20260421T085750
CREATED:20250815T121224Z
LAST-MODIFIED:20250901T111153Z
UID:7380-1761138000-1761152400@eensmarinieraltijdmarinier.nl
SUMMARY:Oploopmiddag Noord
DESCRIPTION:In de oneven weken organiseerd de afdeling Noord een oploopmiddag in Hoogkerk. \nLekker bijkletsen\, kaartje leggen kortom een gezellig samen zijn \nKom vrijblijvend binnen stappen
URL:https://eensmarinieraltijdmarinier.nl/event/oploopmiddag-noord-13/
LOCATION:Wijkrestaurant Gabriel\, Gabriëlstraat 4\,\, Hoogkerk\, Groningen\, 9744 KC\, Netherlands
ATTACH;FMTTYPE=image/png:https://eensmarinieraltijdmarinier.nl/wp-content/uploads/2025/03/Gabriellogo.png
END:VEVENT
BEGIN:VEVENT
DTSTART;TZID=Europe/Amsterdam:20251022T200000
DTEND;TZID=Europe/Amsterdam:20251022T230000
DTSTAMP:20260421T085750
CREATED:20250211T202655Z
LAST-MODIFIED:20251001T183941Z
UID:3050-1761163200-1761174000@eensmarinieraltijdmarinier.nl
SUMMARY:Oploopavond Overijssel
DESCRIPTION:
URL:https://eensmarinieraltijdmarinier.nl/event/oploopavond-overijssel-7/
LOCATION:Veteranen Instituut Enschede\, Bruggertstraat 48\, Enschede\, Overijssel\, 7545 AX\, Netherlands
ATTACH;FMTTYPE=image/png:https://eensmarinieraltijdmarinier.nl/wp-content/uploads/2025/02/1200px-Embleem_Korps_Mariniers.svg-1-816x1024-1.png
END:VEVENT
END:VCALENDAR