BEGIN:VCALENDAR
VERSION:2.0
PRODID:-//Eens marinier, altijd marinier - ECPv6.15.20//NONSGML v1.0//EN
CALSCALE:GREGORIAN
METHOD:PUBLISH
X-WR-CALNAME:Eens marinier, altijd marinier
X-ORIGINAL-URL:https://eensmarinieraltijdmarinier.nl
X-WR-CALDESC:Evenementen voor Eens marinier, altijd marinier
REFRESH-INTERVAL;VALUE=DURATION:PT1H
X-Robots-Tag:noindex
X-PUBLISHED-TTL:PT1H
BEGIN:VTIMEZONE
TZID:Europe/Amsterdam
BEGIN:DAYLIGHT
TZOFFSETFROM:+0100
TZOFFSETTO:+0200
TZNAME:CEST
DTSTART:20240331T010000
END:DAYLIGHT
BEGIN:STANDARD
TZOFFSETFROM:+0200
TZOFFSETTO:+0100
TZNAME:CET
DTSTART:20241027T010000
END:STANDARD
BEGIN:DAYLIGHT
TZOFFSETFROM:+0100
TZOFFSETTO:+0200
TZNAME:CEST
DTSTART:20250330T010000
END:DAYLIGHT
BEGIN:STANDARD
TZOFFSETFROM:+0200
TZOFFSETTO:+0100
TZNAME:CET
DTSTART:20251026T010000
END:STANDARD
BEGIN:DAYLIGHT
TZOFFSETFROM:+0100
TZOFFSETTO:+0200
TZNAME:CEST
DTSTART:20260329T010000
END:DAYLIGHT
BEGIN:STANDARD
TZOFFSETFROM:+0200
TZOFFSETTO:+0100
TZNAME:CET
DTSTART:20261025T010000
END:STANDARD
END:VTIMEZONE
BEGIN:VEVENT
DTSTART;TZID=Europe/Amsterdam:20251203T130000
DTEND;TZID=Europe/Amsterdam:20251203T170000
DTSTAMP:20260421T084841
CREATED:20250815T121657Z
LAST-MODIFIED:20250815T121657Z
UID:7388-1764766800-1764781200@eensmarinieraltijdmarinier.nl
SUMMARY:Oploopmiddag Noord
DESCRIPTION:In de oneven weken organiseerd de afdeling Noord een oploopmiddag in Hoogkerk. \nLekker bijkletsen\, kaartje leggen kortom een gezellig samen zijn \nKom vrijblijvend binnen stappen
URL:https://eensmarinieraltijdmarinier.nl/event/oploopmiddag-noord-17/
LOCATION:Wijkrestaurant Gabriel\, Gabriëlstraat 4\,\, Hoogkerk\, Groningen\, 9744 KC\, Netherlands
ATTACH;FMTTYPE=image/png:https://eensmarinieraltijdmarinier.nl/wp-content/uploads/2025/03/Gabriellogo.png
END:VEVENT
BEGIN:VEVENT
DTSTART;TZID=Europe/Amsterdam:20251206T120000
DTEND;TZID=Europe/Amsterdam:20251206T170000
DTSTAMP:20260421T084841
CREATED:20251009T174410Z
LAST-MODIFIED:20251009T175015Z
UID:7933-1765022400-1765040400@eensmarinieraltijdmarinier.nl
SUMMARY:Korpsverjaardag Mariniers Costa Blanca
DESCRIPTION:De ID-groep Mariniers Costa Blanca organiseert in 2025 de 4e editie van de viering van de Korpsverjaardag Mariniers Costa Blanca. De bijeenkomst vindt dit jaar plaats op zaterdag 6 december 2025 in het verenigingsgebouw van de Nederlands-Vlaamse Ontspannings Club (NVOC) in Moraira en staat geheel in het teken van 360 jaar Korps Mariniers. \n(Oud-)mariniers en hun partners woonachtig in Spanje\, maar ook zij die in deze periode voor vakantie in Spanje verblijven of zij die zich de moeite getroosten het vliegtuig te pakken naar de zonnige Costa Blanca voor een wel heel bijzondere Korpsverjaardag\, overgoten met een Mediterraan sausje\, worden van harte uitgenodigd hierbij aanwezig te zijn. \nPROGRAMMA: \n12.00 – Ontvangst met koffie en “natte cake”.\n13.00 – Welkomstwoord en toast op het Korps Mariniers. Aansluitend aperitief.\n14.00 – Blauwe hap\, bereid door AOOLDV b.d. Mike Klazema en aansluitend een samenzijn onder het genot van een drankje.\n17.00 – Taptoe \nAanmelden vóór 22 november 2025 via mariniers.costa.blanca@gmail.com o.v.v. \n\nNaam\, voorletter(s)\nAdres en woonplaats\nDatum opkomst/uitdiensttreding\nLid COM ja/nee\n\nVermeld bij uw aanmelding tevens of uw echtgenote/partner aanwezig zal zijn. Overige familieleden\, vrienden en/of vriendinnen en vage kennissen kunnen helaas niet aansluiten. U kunt uw bijdrage ad. €16\,65 p/p overmaken op bankrekeningnummer: \nNL09 RABO 0328.3616.74  t.n.v.  R. Korst o.v.v. Korpsverjaardag 2025 \nUw aanmelding is definitief zodra uw eigen bijdrage ontvangen is. Wij ontvangen u graag en toosten op 360 jaar Verbondenheid Kracht en Toewijding! \nQua Patet Orbis\, \nRob Korst\nRené de Jong \n 
URL:https://eensmarinieraltijdmarinier.nl/event/korpsverjaardag-mariniers-costa-blanca/
LOCATION:MVOC Moraira\, Calle Bérdica 1\, Benitachell\, Alicante\, 03726\, Spain
END:VEVENT
BEGIN:VEVENT
DTSTART;VALUE=DATE:20251209
DTEND;VALUE=DATE:20251210
DTSTAMP:20260421T084841
CREATED:20250130T130302Z
LAST-MODIFIED:20250130T130302Z
UID:2678-1765238400-1765324799@eensmarinieraltijdmarinier.nl
SUMMARY:Korpsverjaardag
DESCRIPTION:
URL:https://eensmarinieraltijdmarinier.nl/event/korpsverjaardag/
LOCATION:Zuid Holland
END:VEVENT
BEGIN:VEVENT
DTSTART;VALUE=DATE:20251210
DTEND;VALUE=DATE:20251211
DTSTAMP:20260421T084841
CREATED:20250130T130209Z
LAST-MODIFIED:20250901T111705Z
UID:2675-1765324800-1765411199@eensmarinieraltijdmarinier.nl
SUMMARY:Kranslegging Rotterdam
DESCRIPTION:
URL:https://eensmarinieraltijdmarinier.nl/event/kranslegging-rotterdam/
LOCATION:Zuid Holland
ATTACH;FMTTYPE=image/jpeg:https://eensmarinieraltijdmarinier.nl/wp-content/uploads/2025/01/kranslegging.jpg
END:VEVENT
BEGIN:VEVENT
DTSTART;VALUE=DATE:20251210
DTEND;VALUE=DATE:20251211
DTSTAMP:20260421T084841
CREATED:20251120T114915Z
LAST-MODIFIED:20251120T114915Z
UID:8709-1765324800-1765411199@eensmarinieraltijdmarinier.nl
SUMMARY:Defile Rotterdam
DESCRIPTION:Op 10 december 2025 zal het lustrumjaar 360 jaar Korps Mariniers en 75 jaar COM worden afgesloten.\nDit zal gebeuren tijdens het gebruikelijke ceremonieel bij ons standbeeld op het Oostplein in aanwezigheid van CKM en de burgemeester van Rotterdam.\nDeze 2 pelotons nemen ook deel aan het defilé wat na afloop zal plaatsvinden welke de route van het Oostplein naar de VGkazerne zal volgen. \nLet op: Als je deelneemt aan het ceremonieel in een van de twee pelotons moet je ook meelopen in het defilé. Bedenk dat het ceremonieel op het Oostplein en het defilé van 3 km. bij elkaar zo’n twee uur zal duren. Je moet hier fysiek wel toe in staat zijn. \nOp het Oostplein zullen er 2 pelotons van het COM deelnemen aan het ceremonieel\, te weten: \n\n1 peloton (21 pax)) met COM leden in het COM/veteranen/Mariniers kostuum met blauwe baret en grootkruizen.\n1 peloton (21 pax) met Mariniers die bij andere overheidsdiensten/defensie werkzaam zijn maar ook oud-marinier zijn. Zij zullen hun eigen werktenue met hun eigen hoofddeksel deelnemen zonder grootkruizen.\n\nTevens zullen er 3 pelotons gevormd worden met COM leden in verschillende tenues. Te weten\, \n\n(21) Mariniers in COM/veteranen/marinierskostuum\n(21) Mariniers in burger met groene baret\n(21) Mariniers in burger met blauwe mariniers baret\n\nDeze pelotons worden op een later moment in het defilé ingevoegd. Deze pelotons nemen geen deel aan het ceremonieel op het Oostplein en kunnen dat ook niet bijwonen. \nBij de VGKazerne zal parkeergelegenheid beschikbaar zijn. Vanaf daar wordt busvervoer ingezet om de verschillende pelotons naar de juiste plekken te brengen.\nNa afloop zal er voor alle deelnemers in de kazerne een hapje en drankje worden verzorgd. \nVia de website eensmarinieraltijdmarinier.nl kom je op een formulier welke volledig moet worden ingevuld. Niet volledig ingevulde formulieren betekent niet deelnemen. Dit heeft te maken met de toegang tot het kazerneterrein.
URL:https://eensmarinieraltijdmarinier.nl/event/defile-rotterdam/
LOCATION:Rotterdam\, Toepad 120\, Rotterdam\, 3063NJ\, Nederland
END:VEVENT
BEGIN:VEVENT
DTSTART;TZID=Europe/Amsterdam:20251213T150000
DTEND;TZID=Europe/Amsterdam:20251213T210000
DTSTAMP:20260421T084841
CREATED:20251001T184059Z
LAST-MODIFIED:20251004T093529Z
UID:7837-1765638000-1765659600@eensmarinieraltijdmarinier.nl
SUMMARY:Korpsfeest Overijssel
DESCRIPTION:Beste Mariniers\, \nWe zijn weer hard onderweg naar onze korps verjaardag op 10 dec 2025. \nWe bestaan dit jaar 360 jaar en willen dat met de mariniers en oud mariniers uit Overijssel\, Twente en omstreken gaan vieren op zaterdag 13 december 2025. Zes jaar geleden is dit ontstaan en dit was een groot succes. Tegenwoordig is de organisatie ondergebracht onder het COM Overijssel. Dit om nog meer mensen te bereiken. Afgelopen jaar was het een groot succes mede dankzij jullie en de grote opkomst. Zelfs mensen uit de rest van het land hebben deel genomen. Ook dit jaar hebben we een aantal koks uit eigen gelederen bereid gevonden om voor ons een heerlijke nasi maaltijd te bereiden tijdens onze verjaardag. Dus hoe meer mensen er komen des te gezelliger gaat het worden. Heb je nog collega’s die ik niet heb bereikt nodig deze dan middels deze brief ook uit voor zaterdag 13 december 2025. Ik hoop u allen te zien op 13 december 2025. Nog even een Herinnering: Het is een korpsverjaardag dus alleen voor mannen. Alleen als u slecht ter been bent dan mag u onder begeleiding komen. Hoe ziet het er uit: \nZaterdag 13 december 2025 Tijd: aanvang 15:00 uur Eten vanaf 17:00 uur Eind tijd 21:00 uur \nKosten voor deze verjaardag zijn € 35\,00 all inclusive Betalen kan via onderstaande rekening nummer.\nNL 44 INGB 0003 1596 82 Onder vermelding van Korps verjaardag 13 december 2025. \nGraag op tijd opgeven via onderstaande mail adres of via persoonlijk bericht op facebook of via onderstaand telefoon nummer of whats App. Dit i.v.m. aankoop van drank en eten \nAdres: Herculesstraat 10 Enschede fam.g.terhorst@gmail.com 0621222401 \nQUA PATET ORBIS\nNamens het COM Overijssel\nGijs ter Horst
URL:https://eensmarinieraltijdmarinier.nl/event/korpsfeest-overijssel/
LOCATION:Enschede\, Herculesstraat 10\, Enschede\, 7521 DJ\, Netherlands
END:VEVENT
BEGIN:VEVENT
DTSTART;TZID=Europe/Amsterdam:20251213T160000
DTEND;TZID=Europe/Amsterdam:20251213T230000
DTSTAMP:20260421T084841
CREATED:20250730T110430Z
LAST-MODIFIED:20250919T112534Z
UID:7219-1765641600-1765666800@eensmarinieraltijdmarinier.nl
SUMMARY:Uitnodiging voor de viering van de Korpsverjaardag op 13 december 2025
DESCRIPTION:Dit jaar viert Com Noord de Korpsverjaardag in de stad Groningen en wel in het centrum van de stad in het bekende restaurant de Weeva aan het Zuiderdiep.\nAdres: Gedempte Zuiderdiep 8-10\, 9711 HG Groningen \nDeze locatie is voorzien van een grote parkeergarage in de kelder en meteen voor de deur is een bushalte. Dus het is heel gemakkelijk om er te komen en na afloop weer te vertrekken.\nDe kosten voor de parkeergarage bedragen € 4\,50 per uur. Je kunt natuurlijk ook parkeren op een P+R in de omgeving van de stad Groningen (Hoogkerk of Haren) en met de bus naar het centrum van de stad reizen. Je kunt dan voor de deur van de Weeva uitstappen en op de terugweg ook weer instappen. Hiervan bedragen de kosten voor maximaal 5 pers. € 6.00. \nDe viering zal plaats vinden op zaterdag 13 december 2025\, de inloop is vanaf 16.00 uur tot 18.00 uur. In deze tijd kunnen we lekker met elkaar een drankje nuttigen en genieten van een bittergarnituur.\nCom Noord sponsort voor elk aanwezig lid en partner 2 consumptie munten. Daarna kunnen meer munten gekocht worden bij onze penningmeester voor € 4.00 per munt.\nVoor de viering hebben we weer eens een muzikale noot gereserveerd in de vorm van een 5 mans formatie\, die voor ons een speciaal repertoire van zogenoemde Oldies gaan spelen.\nOm 18.30 staat het koude en warme buffet voor jullie klaar en kunnen we lekker gaan eten en natuurlijk een paar versnaperingen tot ons nemen.\nDat er in de loop van de avond ook nog een dessertbuffet opgebouwd gaat worden\, spreekt voor zich. \nDe avond zullen we tussen 22-00 en 23.00 uur afsluiten. \nDe mogelijkheid bestaat om in het hotel te blijven overnachten voor een gereduceerde prijs.\nKleine kamer € 100 en de grotere kamer € 120\, beide prijzen zijn zonder ontbijt van € 16.50 per persoon.\nAanmelden graag per mail naar:\npenningmeester-noord@eensmarinieralijdmarinier.nl \nDe hoogte van de eigen bijdrage voor leden en voor de partners/echtgenotes en personen die noodzakelijk begeleiding zijn\, hebben we jarenlang op € 16.65 kunnen houden. Helaas is het met de sterkt gestegen prijzen en de gekrompen tegoeden op onze bank niet meer mogelijk en moeten we de eigen bijdrage verhogen.\nDe eigen bijdrage voor leden/partner bedraagt voor de viering € 23\,50\nIntroducees zijn uiteraard welkom\, maar zij betalen een hogere bijdrage\, namelijk per persoon een bedrag van € 40.00. \nBetaling uiteraard vooraf op bankrekening van Com Noord NL61RBRB0954624920.\nOpgave graag per mail naar:  penningmeester-noord@eensmarinieralijdmarinier.nl\nOp zondag 7 december 18.00 uur sluiten wij de inschrijftermijn.
URL:https://eensmarinieraltijdmarinier.nl/event/viering-korps-verjaardag-te-groningen-in-de-weeva/
LOCATION:Weeva\, Gedempte Zuiderdiep 8-10\, Groningen\, Groningen\, 9711 HG\, Netherlands
ATTACH;FMTTYPE=image/webp:https://eensmarinieraltijdmarinier.nl/wp-content/uploads/2025/07/weeva.webp
END:VEVENT
BEGIN:VEVENT
DTSTART;TZID=Europe/Amsterdam:20251217T130000
DTEND;TZID=Europe/Amsterdam:20251217T170000
DTSTAMP:20260421T084841
CREATED:20250815T121748Z
LAST-MODIFIED:20250919T111452Z
UID:7390-1765976400-1765990800@eensmarinieraltijdmarinier.nl
SUMMARY:Oploopmiddag Noord
DESCRIPTION:In de oneven weken organiseerd de afdeling Noord een oploopmiddag in Hoogkerk. \nLekker bijkletsen\, kaartje leggen kortom een gezellig samen zijn \nKom vrijblijvend binnen stappen
URL:https://eensmarinieraltijdmarinier.nl/event/oploopmiddag-noord-18/
LOCATION:Wijkrestaurant Gabriel\, Gabriëlstraat 4\,\, Hoogkerk\, Groningen\, 9744 KC\, Netherlands
ATTACH;FMTTYPE=image/png:https://eensmarinieraltijdmarinier.nl/wp-content/uploads/2025/03/Gabriellogo.png
END:VEVENT
BEGIN:VEVENT
DTSTART;TZID=Europe/Amsterdam:20251217T200000
DTEND;TZID=Europe/Amsterdam:20251217T230000
DTSTAMP:20260421T084841
CREATED:20250211T202853Z
LAST-MODIFIED:20250211T202853Z
UID:3054-1766001600-1766012400@eensmarinieraltijdmarinier.nl
SUMMARY:Oploopavond Overijssel
DESCRIPTION:
URL:https://eensmarinieraltijdmarinier.nl/event/oploopavond-overijssel-8/
LOCATION:Veteranen Instituut Enschede\, Bruggertstraat 48\, Enschede\, Overijssel\, 7545 AX\, Netherlands
ATTACH;FMTTYPE=image/png:https://eensmarinieraltijdmarinier.nl/wp-content/uploads/2025/02/1200px-Embleem_Korps_Mariniers.svg-1-816x1024-1.png
END:VEVENT
END:VCALENDAR