BEGIN:VCALENDAR
VERSION:2.0
PRODID:-//Eens marinier, altijd marinier - ECPv6.15.20//NONSGML v1.0//EN
CALSCALE:GREGORIAN
METHOD:PUBLISH
X-WR-CALNAME:Eens marinier, altijd marinier
X-ORIGINAL-URL:https://eensmarinieraltijdmarinier.nl
X-WR-CALDESC:Evenementen voor Eens marinier, altijd marinier
REFRESH-INTERVAL;VALUE=DURATION:PT1H
X-Robots-Tag:noindex
X-PUBLISHED-TTL:PT1H
BEGIN:VTIMEZONE
TZID:Europe/Amsterdam
BEGIN:DAYLIGHT
TZOFFSETFROM:+0100
TZOFFSETTO:+0200
TZNAME:CEST
DTSTART:20250330T010000
END:DAYLIGHT
BEGIN:STANDARD
TZOFFSETFROM:+0200
TZOFFSETTO:+0100
TZNAME:CET
DTSTART:20251026T010000
END:STANDARD
BEGIN:DAYLIGHT
TZOFFSETFROM:+0100
TZOFFSETTO:+0200
TZNAME:CEST
DTSTART:20260329T010000
END:DAYLIGHT
BEGIN:STANDARD
TZOFFSETFROM:+0200
TZOFFSETTO:+0100
TZNAME:CET
DTSTART:20261025T010000
END:STANDARD
BEGIN:DAYLIGHT
TZOFFSETFROM:+0100
TZOFFSETTO:+0200
TZNAME:CEST
DTSTART:20270328T010000
END:DAYLIGHT
BEGIN:STANDARD
TZOFFSETFROM:+0200
TZOFFSETTO:+0100
TZNAME:CET
DTSTART:20271031T010000
END:STANDARD
END:VTIMEZONE
BEGIN:VEVENT
DTSTART;VALUE=DATE:20260505
DTEND;VALUE=DATE:20260506
DTSTAMP:20260421T132344
CREATED:20260420T122350Z
LAST-MODIFIED:20260420T122919Z
UID:9924-1777939200-1778025599@eensmarinieraltijdmarinier.nl
SUMMARY:Defilé Wageningen op 5 mei
DESCRIPTION:Voor het defilé in Wageningen hebben zich inmiddels verschillende mariniers aangemeld: \n\n\n\nOnderdeel\nDeelnemers\n\n\n\n\nCOM\nCirca 20 deelnemers\n\n\nIdentiteitsgroep Mariniers Commando\nÉén peloton\n\n\nUNTAC (Cambodja)\nCirca 10 deelnemers\n\n\n\nHoewel de officiële inschrijving is gesloten\, is deelname in beperkte mate nog mogelijk. Aanmelden via: Dick van Noordenne — drukkerij@ziggo.nl \n\nLet op\n\nParkeergelegenheid is niet meer beschikbaar\nDeelname vindt plaats in correct tenue
URL:https://eensmarinieraltijdmarinier.nl/event/defile-wageningen-op-5-mei/
LOCATION:Wageningen
CATEGORIES:com
ATTACH;FMTTYPE=image/png:https://eensmarinieraltijdmarinier.nl/wp-content/uploads/2026/04/7e49360c-ff0c-440a-8911-c16d6263353e.png
END:VEVENT
BEGIN:VEVENT
DTSTART;VALUE=DATE:20260511
DTEND;VALUE=DATE:20260512
DTSTAMP:20260421T132344
CREATED:20260128T112731Z
LAST-MODIFIED:20260128T112731Z
UID:9351-1778457600-1778543999@eensmarinieraltijdmarinier.nl
SUMMARY:Planning HouweZo 2026
DESCRIPTION:📬 Planning HouweZo 2026 (voorlopig) \nZin om alvast vooruit te kijken? Pak je agenda erbij\, want dit zijn de belangrijke data voor de komende edities van HouweZo in 2026. Zo weet je precies wanneer jouw kopij binnen moet zijn én wanneer het blad op de mat valt 😉 \n✨ Editie 2026-02✍️ Uiterste datum kopij: 11 mei📮 Verwacht in de bus: 6–13 juni \n✨ Editie 2026-03✍️ Uiterste datum kopij: 7 augustus📮 Verwacht in de bus: 5–12 september \n✨ Editie 2026-04✍️ Uiterste datum kopij: 12 december📮 Verwacht in de bus: 9–16 januari \nDank voor het meedenken en meeschrijven – samen maken we er weer mooie edities van! 💛📖
URL:https://eensmarinieraltijdmarinier.nl/event/planning-houwezo-2026/
LOCATION:Zuid Holland
END:VEVENT
END:VCALENDAR