BEGIN:VCALENDAR
VERSION:2.0
PRODID:-//Eens marinier, altijd marinier - ECPv6.15.20//NONSGML v1.0//EN
CALSCALE:GREGORIAN
METHOD:PUBLISH
X-ORIGINAL-URL:https://eensmarinieraltijdmarinier.nl
X-WR-CALDESC:Evenementen voor Eens marinier, altijd marinier
REFRESH-INTERVAL;VALUE=DURATION:PT1H
X-Robots-Tag:noindex
X-PUBLISHED-TTL:PT1H
BEGIN:VTIMEZONE
TZID:Europe/Amsterdam
BEGIN:DAYLIGHT
TZOFFSETFROM:+0100
TZOFFSETTO:+0200
TZNAME:CEST
DTSTART:20250330T010000
END:DAYLIGHT
BEGIN:STANDARD
TZOFFSETFROM:+0200
TZOFFSETTO:+0100
TZNAME:CET
DTSTART:20251026T010000
END:STANDARD
BEGIN:DAYLIGHT
TZOFFSETFROM:+0100
TZOFFSETTO:+0200
TZNAME:CEST
DTSTART:20260329T010000
END:DAYLIGHT
BEGIN:STANDARD
TZOFFSETFROM:+0200
TZOFFSETTO:+0100
TZNAME:CET
DTSTART:20261025T010000
END:STANDARD
BEGIN:DAYLIGHT
TZOFFSETFROM:+0100
TZOFFSETTO:+0200
TZNAME:CEST
DTSTART:20270328T010000
END:DAYLIGHT
BEGIN:STANDARD
TZOFFSETFROM:+0200
TZOFFSETTO:+0100
TZNAME:CET
DTSTART:20271031T010000
END:STANDARD
END:VTIMEZONE
BEGIN:VEVENT
DTSTART;VALUE=DATE:20260807
DTEND;VALUE=DATE:20260808
DTSTAMP:20260423T114938
CREATED:20260128T114456Z
LAST-MODIFIED:20260128T114456Z
UID:9357-1786060800-1786147199@eensmarinieraltijdmarinier.nl
SUMMARY:Planning HouweZo 2026
DESCRIPTION:📬 Planning HouweZo 2026 (voorlopig) \nZin om alvast vooruit te kijken? Pak je agenda erbij\, want dit zijn de belangrijke data voor de komende edities van HouweZo in 2026. Zo weet je precies wanneer jouw kopij binnen moet zijn én wanneer het blad op de mat valt 😉 \n✨ Editie 2026-02✍️ Uiterste datum kopij: 11 mei📮 Verwacht in de bus: 6–13 juni \n✨ Editie 2026-03✍️ Uiterste datum kopij: 7 augustus📮 Verwacht in de bus: 5–12 september \n✨ Editie 2026-04✍️ Uiterste datum kopij: 12 december📮 Verwacht in de bus: 9–16 januari \nDank voor het meedenken en meeschrijven – samen maken we er weer mooie edities van! 💛📖
URL:https://eensmarinieraltijdmarinier.nl/event/planning-houwezo-2026-2/
LOCATION:Zuid Holland
END:VEVENT
BEGIN:VEVENT
DTSTART;VALUE=DATE:20260822
DTEND;VALUE=DATE:20260823
DTSTAMP:20260423T114938
CREATED:20260330T114821Z
LAST-MODIFIED:20260330T115307Z
UID:9773-1787356800-1787443199@eensmarinieraltijdmarinier.nl
SUMMARY:4e Mariniersdag
DESCRIPTION:Momenteel vinden de voorbereidingen plaats voor wederom een Mariniersdag georganiseerd door COM.\nZodra het projectteam meer informatie heeft wordt dat gedeeld\, uiterlijk 1 mei. De dag is voor mariniers en partners (en kinderen).\nWij nodigen iedere afdeling en identiteitsgroep om een clan te formeren voor de Highland Games !!!!!
URL:https://eensmarinieraltijdmarinier.nl/event/4e-mariniersdag/
LOCATION:Van Gentkazerne\, Toepad 120\, Rotterdam\, Zuid Holland\, 3063 NJ\, Netherlands
CATEGORIES:com
END:VEVENT
BEGIN:VEVENT
DTSTART;VALUE=DATE:20260822
DTEND;VALUE=DATE:20260823
DTSTAMP:20260423T114938
CREATED:20260420T122123Z
LAST-MODIFIED:20260420T122123Z
UID:9922-1787356800-1787443199@eensmarinieraltijdmarinier.nl
SUMMARY:Highland Games
DESCRIPTION:Op zaterdag 22 augustus vindt de Mariniersdag plaats op de Van Ghentkazerne. De dag is toegankelijk voor alle (oud-)mariniers en hun families en staat in het teken van ontmoeting\, sport en gezelligheid. \nDit jaar keren ook de Highland Games terug. Afdelingen\, identiteitsgroepen en andere onderdelen worden uitgenodigd om een team te vormen en deel te nemen. \nAanmelden \nInschrijving geopend vanaf 1 mei\nOpen voor alle (oud-)mariniers en families\nTeams via afdeling of identiteitsgroep\nBereid je voor op een sportieve dag waarin saamhorigheid centraal staat.
URL:https://eensmarinieraltijdmarinier.nl/event/highland-games/
LOCATION:Van Gentkazerne\, Toepad 120\, Rotterdam\, Zuid Holland\, 3063 NJ\, Netherlands
CATEGORIES:com
ATTACH;FMTTYPE=image/png:https://eensmarinieraltijdmarinier.nl/wp-content/uploads/2026/03/7e49360c-ff0c-440a-8911-c16d6263353e.png
END:VEVENT
END:VCALENDAR