BEGIN:VCALENDAR
VERSION:2.0
PRODID:-//Eens marinier, altijd marinier - ECPv6.15.20//NONSGML v1.0//EN
CALSCALE:GREGORIAN
METHOD:PUBLISH
X-WR-CALNAME:Eens marinier, altijd marinier
X-ORIGINAL-URL:https://eensmarinieraltijdmarinier.nl
X-WR-CALDESC:Evenementen voor Eens marinier, altijd marinier
REFRESH-INTERVAL;VALUE=DURATION:PT1H
X-Robots-Tag:noindex
X-PUBLISHED-TTL:PT1H
BEGIN:VTIMEZONE
TZID:Europe/Amsterdam
BEGIN:DAYLIGHT
TZOFFSETFROM:+0100
TZOFFSETTO:+0200
TZNAME:CEST
DTSTART:20250330T010000
END:DAYLIGHT
BEGIN:STANDARD
TZOFFSETFROM:+0200
TZOFFSETTO:+0100
TZNAME:CET
DTSTART:20251026T010000
END:STANDARD
BEGIN:DAYLIGHT
TZOFFSETFROM:+0100
TZOFFSETTO:+0200
TZNAME:CEST
DTSTART:20260329T010000
END:DAYLIGHT
BEGIN:STANDARD
TZOFFSETFROM:+0200
TZOFFSETTO:+0100
TZNAME:CET
DTSTART:20261025T010000
END:STANDARD
BEGIN:DAYLIGHT
TZOFFSETFROM:+0100
TZOFFSETTO:+0200
TZNAME:CEST
DTSTART:20270328T010000
END:DAYLIGHT
BEGIN:STANDARD
TZOFFSETFROM:+0200
TZOFFSETTO:+0100
TZNAME:CET
DTSTART:20271031T010000
END:STANDARD
END:VTIMEZONE
BEGIN:VEVENT
DTSTART;VALUE=DATE:20261212
DTEND;VALUE=DATE:20261213
DTSTAMP:20260423T143346
CREATED:20260128T114532Z
LAST-MODIFIED:20260128T114532Z
UID:9359-1797033600-1797119999@eensmarinieraltijdmarinier.nl
SUMMARY:Planning HouweZo 2026
DESCRIPTION:📬 Planning HouweZo 2026 (voorlopig) \nZin om alvast vooruit te kijken? Pak je agenda erbij\, want dit zijn de belangrijke data voor de komende edities van HouweZo in 2026. Zo weet je precies wanneer jouw kopij binnen moet zijn én wanneer het blad op de mat valt 😉 \n✨ Editie 2026-02✍️ Uiterste datum kopij: 11 mei📮 Verwacht in de bus: 6–13 juni \n✨ Editie 2026-03✍️ Uiterste datum kopij: 7 augustus📮 Verwacht in de bus: 5–12 september \n✨ Editie 2026-04✍️ Uiterste datum kopij: 12 december📮 Verwacht in de bus: 9–16 januari \nDank voor het meedenken en meeschrijven – samen maken we er weer mooie edities van! 💛📖
URL:https://eensmarinieraltijdmarinier.nl/event/planning-houwezo-2026-3/
LOCATION:Zuid Holland
END:VEVENT
END:VCALENDAR